BEGIN:VCALENDAR
VERSION:2.0
PRODID:-//wp-events-plugin.com//7.2.2.1//EN
BEGIN:VEVENT
UID:91@lovewokingham.co.uk
DTSTART;TZID=Europe/London:20211128T100000
DTEND;TZID=Europe/London:20211128T170000
DTSTAMP:20210930T154746Z
URL:https://www.lovewokingham.co.uk/events/wokingham-winter-carnival
SUMMARY:Wokingham Winter Carnival
DESCRIPTION:Stalls\, fairground rides and entertainment across the day
ATTACH;FMTTYPE=image/jpeg:https://www.lovewokingham.co.uk/wp-content/uploa
 ds/2021/09/wintercarnival.jpg
CATEGORIES:Mailchimp Events
LOCATION:Broad Street\, Broad Street\, Wokingham\, Berkshire\, RG40 1AU\, U
 nited Kingdom
GEO:51.411316;-0.835717
X-APPLE-STRUCTURED-LOCATION;VALUE=URI;X-ADDRESS=Broad Street\, Wokingham\, 
 Berkshire\, RG40 1AU\, United Kingdom;X-APPLE-RADIUS=100;X-TITLE=Broad Str
 eet:geo:51.411316,-0.835717
END:VEVENT
BEGIN:VTIMEZONE
TZID:Europe/London
X-LIC-LOCATION:Europe/London
BEGIN:STANDARD
DTSTART:20211031T010000
TZOFFSETFROM:+0100
TZOFFSETTO:+0000
TZNAME:GMT
END:STANDARD
END:VTIMEZONE
END:VCALENDAR